BEGIN:VCALENDAR
VERSION:2.0
PRODID:-//Colorado Bar Association CLE//EN
BEGIN:VEVENT
DTSTART:20180722T210000Z
DTEND:20180725T170000Z
SUMMARY;LANGUAGE=en-us:Summer Seminar
LOCATION:Fairmont Le Château Frontenac 
END:VEVENT
END:VCALENDAR
