BEGIN:VCALENDAR
VERSION:2.0
PRODID:-//Colorado Bar Association CLE//EN
BEGIN:VEVENT
DTSTART:20200313T160000Z
DTEND:20200313T170000Z
SUMMARY;LANGUAGE=en-us:Making Informed Decisions in Response to COVID-19
LOCATION:Washington, DC
END:VEVENT
END:VCALENDAR
